BEGIN:VCALENDAR
VERSION:2.0
PRODID:-//AC 2000 - ECPv6.15.20//NONSGML v1.0//EN
CALSCALE:GREGORIAN
METHOD:PUBLISH
X-ORIGINAL-URL:https://ac2000-chatillon.fr
X-WR-CALDESC:Évènements pour AC 2000
REFRESH-INTERVAL;VALUE=DURATION:PT1H
X-Robots-Tag:noindex
X-PUBLISHED-TTL:PT1H
BEGIN:VTIMEZONE
TZID:UTC
BEGIN:STANDARD
TZOFFSETFROM:+0000
TZOFFSETTO:+0000
TZNAME:UTC
DTSTART:20220101T000000
END:STANDARD
END:VTIMEZONE
BEGIN:VEVENT
DTSTART;TZID=UTC:20231211T200000
DTEND;TZID=UTC:20231211T233000
DTSTAMP:20260420T141556
CREATED:20231215T122923Z
LAST-MODIFIED:20231215T123100Z
UID:661-1702324800-1702337400@ac2000-chatillon.fr
SUMMARY:Conseil d'Administration
DESCRIPTION:
URL:https://ac2000-chatillon.fr/manifestation/reunion-du-conseil-dadministration/
CATEGORIES:Réunions du CA
ATTACH;FMTTYPE=image/jpeg:https://ac2000-chatillon.fr/wp-content/uploads/2023/12/reunion-CA.jpg
END:VEVENT
END:VCALENDAR