BEGIN:VCALENDAR
VERSION:2.0
PRODID:-//AC 2000 - ECPv6.15.20//NONSGML v1.0//EN
CALSCALE:GREGORIAN
METHOD:PUBLISH
X-WR-CALNAME:AC 2000
X-ORIGINAL-URL:https://ac2000-chatillon.fr
X-WR-CALDESC:Évènements pour AC 2000
REFRESH-INTERVAL;VALUE=DURATION:PT1H
X-Robots-Tag:noindex
X-PUBLISHED-TTL:PT1H
BEGIN:VTIMEZONE
TZID:UTC
BEGIN:STANDARD
TZOFFSETFROM:+0000
TZOFFSETTO:+0000
TZNAME:UTC
DTSTART:20220101T000000
END:STANDARD
END:VTIMEZONE
BEGIN:VEVENT
DTSTART;TZID=UTC:20231126T100000
DTEND;TZID=UTC:20231126T180000
DTSTAMP:20260420T160405
CREATED:20231130T124500Z
LAST-MODIFIED:20231215T103736Z
UID:522-1700992800-1701021600@ac2000-chatillon.fr
SUMMARY:Marché de Noël
DESCRIPTION:Notre marché de Noël a lieu très bientôt ! \nPour disposer les tables\, mettre en place les décorations\, préparer crêpes et vin chaud et tenir les stands\, nous avons toujours besoin de bénévoles donc n’hésitez pas à nous rejoindre pour nous prêter main forte ! \nL’évènement est diffusé sur plusieurs sites internet\, et à l’échelle locale via des affiches et des flyers. Pour nous aider à le faire connaître\, vous pouvez également le relayer sur vos propres réseaux ou nous suggérer d’autres sites évènementiels. \nSi vous êtes exposant(e)\, nous sommes au regret de vous informer que notre liste d’exposants est déjà complète pour l’édition 2023 ; toutefois vous pouvez vous inscrire sur liste d’attente en cas de désistement ou d’imprévu\, et/ou être recontacté(e) par le secrétariat pour l’édition 2024. \nA tous les artistes et artisans autoentrepreneurs\, nous proposons également la possibilité de figurer dans notre plaquette d’activités annuelle\, sous la forme d’un encart publicitaire. Cette participation de votre part nous aide à financer l’édition de la plaquette\, et nous permet de mettre en avant les artistes et artisans locaux pour améliorer leur visibilité et promouvoir leur activité. \nNous vous attendons nombreux(ses) pour cet évènement !
URL:https://ac2000-chatillon.fr/manifestation/marche-de-noel/
LOCATION:AC 2000\, 44 rue Bellevue\, Châtillon-le-Duc\, 25870
ATTACH;FMTTYPE=image/jpeg:https://ac2000-chatillon.fr/wp-content/uploads/2023/11/marche-de-Noel-1.jpg
END:VEVENT
END:VCALENDAR